BEGIN:VCALENDAR
VERSION:2.0
PRODID:-//Enfants Cancers Santé - ECPv6.15.20//NONSGML v1.0//EN
CALSCALE:GREGORIAN
METHOD:PUBLISH
X-WR-CALNAME:Enfants Cancers Santé
X-ORIGINAL-URL:https://www.enfants-cancers-sante.fr
X-WR-CALDESC:Évènements pour Enfants Cancers Santé
REFRESH-INTERVAL;VALUE=DURATION:PT1H
X-Robots-Tag:noindex
X-PUBLISHED-TTL:PT1H
BEGIN:VTIMEZONE
TZID:Europe/Paris
BEGIN:DAYLIGHT
TZOFFSETFROM:+0100
TZOFFSETTO:+0200
TZNAME:CEST
DTSTART:20250330T010000
END:DAYLIGHT
BEGIN:STANDARD
TZOFFSETFROM:+0200
TZOFFSETTO:+0100
TZNAME:CET
DTSTART:20251026T010000
END:STANDARD
BEGIN:DAYLIGHT
TZOFFSETFROM:+0100
TZOFFSETTO:+0200
TZNAME:CEST
DTSTART:20260329T010000
END:DAYLIGHT
BEGIN:STANDARD
TZOFFSETFROM:+0200
TZOFFSETTO:+0100
TZNAME:CET
DTSTART:20261025T010000
END:STANDARD
BEGIN:DAYLIGHT
TZOFFSETFROM:+0100
TZOFFSETTO:+0200
TZNAME:CEST
DTSTART:20270328T010000
END:DAYLIGHT
BEGIN:STANDARD
TZOFFSETFROM:+0200
TZOFFSETTO:+0100
TZNAME:CET
DTSTART:20271031T010000
END:STANDARD
END:VTIMEZONE
BEGIN:VEVENT
DTSTART;TZID=Europe/Paris:20260421T193000
DTEND;TZID=Europe/Paris:20260421T233000
DTSTAMP:20260421T063735
CREATED:20260323T154942Z
LAST-MODIFIED:20260323T154942Z
UID:15135-1776799800-1776814200@www.enfants-cancers-sante.fr
SUMMARY:Gala Espoir & Recherche
DESCRIPTION:Chloé et Clara\, étudiantes à l’IDRAC Business School à Grenoble\, organisent une soirée caritative au profit d’Enfants Cancers Santé\, placée sous le signe de la solidarité\, de l’élégance et l’espoir.\nCe Gala se déroulera à la salle des fêtes de Claix (Isère).
URL:https://www.enfants-cancers-sante.fr/evenement/gala-espoir-recherche/
CATEGORIES:Auvergne Rhône-Alpes
ATTACH;FMTTYPE=image/png:https://www.enfants-cancers-sante.fr/wp-content/uploads/2026/03/69c02ceca486f.png
END:VEVENT
END:VCALENDAR